BEGIN:VCALENDAR
VERSION:2.0
PRODID:-//Squarespace Inc/Squarespace 6//v6//EN
BEGIN:VEVENT
UID:5dc49d9b853fca395c09e1e2@squarespace.com
DTSTAMP:20191209T050344Z
DTSTART:20200125T050000Z
DTEND:20200125T104500Z
SUMMARY:Concord Dawn - State of Mind with MC Woody - Bulletproof - Trei - T
 iki Taane 
END:VEVENT
END:VCALENDAR
