BEGIN:VCALENDAR
VERSION:2.0
PRODID:-//Squarespace Inc/Squarespace 6//v6//EN
BEGIN:VEVENT
UID:5dc38db570206718a68c03a0@squarespace.com
DTSTAMP:20191209T045632Z
DTSTART:20191229T050000Z
DTEND:20191229T100000Z
SUMMARY:Drax Project - Eleven7four
END:VEVENT
END:VCALENDAR
