BEGIN:VCALENDAR
VERSION:2.0
PRODID:-//Squarespace Inc/Squarespace 6//v6//EN
BEGIN:VEVENT
UID:5dc49c00dfdaf3233b086bd2@squarespace.com
DTSTAMP:20191209T050117Z
DTSTART:20200102T050000Z
DTEND:20200102T083000Z
SUMMARY:Katchafire - Tomorrow People - 1814
END:VEVENT
END:VCALENDAR
