BEGIN:VCALENDAR
VERSION:2.0
PRODID:-//Squarespace Inc/Squarespace 6//v6//EN
BEGIN:VEVENT
UID:5dc38c521dbb064a5dfc0615@squarespace.com
DTSTAMP:20191209T045955Z
DTSTART:20191228T050000Z
DTEND:20191228T100000Z
SUMMARY:L.A.B - Mako Road - Soaked Oats
GEO:-36.923719;175.692092
LOCATION:Coroglen Tavern\, 1937 New Zealand State Highway 25\, Coroglen\, W
 aikato\, 3591\, New Zealand
END:VEVENT
END:VCALENDAR
