BEGIN:VCALENDAR
VERSION:2.0
PRODID:-//Squarespace Inc/Squarespace 6//v6//EN
BEGIN:VEVENT
UID:5dd1f05c3f951311698948c3@squarespace.com
DTSTAMP:20191118T203941Z
DTSTART:20191130T200000Z
DTEND:20191130T210000Z
SUMMARY:Noddy Watts Charity Scooter Run - Scoot 4 Loot
END:VEVENT
END:VCALENDAR
