BEGIN:VCALENDAR
VERSION:2.0
PRODID:-//Squarespace Inc/Squarespace 6//v6//EN
BEGIN:VEVENT
UID:5dc49d082fd8784f41ddc62f@squarespace.com
DTSTAMP:20191219T215402Z
DTSTART:20200104T050000Z
DTEND:20200104T093000Z
SUMMARY:Sticky Fingers - The Delta Riggs - The Butlers - SOLD OUT
END:VEVENT
END:VCALENDAR
