BEGIN:VCALENDAR
VERSION:2.0
PRODID:-//Squarespace Inc/Squarespace 6//v6//EN
BEGIN:VEVENT
UID:5dfbe5c737c9c220b928eff0@squarespace.com
DTSTAMP:20191219T214915Z
DTSTART:20191230T170000Z
DTEND:20191230T180000Z
SUMMARY:Villainy vs Beastwars NYE
END:VEVENT
END:VCALENDAR
