BEGIN:VCALENDAR
VERSION:2.0
PRODID:-//Squarespace Inc/Squarespace 6//v6//EN
BEGIN:VEVENT
UID:5df3fc7cbb72483f9d9d411a@squarespace.com
DTSTAMP:20191213T213815Z
DTSTART:20200411T060000Z
DTEND:20200411T090000Z
SUMMARY:White Chapel Jak
GEO:-36.923634;175.691246
LOCATION:The Coroglen Tavern\, 1937 Tairua Whitianga Rd\, Whitianga\, New Z
 ealand
END:VEVENT
END:VCALENDAR
